BEGIN:VCALENDAR
VERSION:2.0
PRODID:-//Honey Cabaret - ECPv6.2.7//NONSGML v1.0//EN
CALSCALE:GREGORIAN
METHOD:PUBLISH
X-WR-CALNAME:Honey Cabaret
X-ORIGINAL-URL:https://honeycabaret.co.uk
X-WR-CALDESC:Events for Honey Cabaret
REFRESH-INTERVAL;VALUE=DURATION:PT1H
X-Robots-Tag:noindex
X-PUBLISHED-TTL:PT1H
BEGIN:VTIMEZONE
TZID:Europe/London
BEGIN:DAYLIGHT
TZOFFSETFROM:+0000
TZOFFSETTO:+0100
TZNAME:BST
DTSTART:20220327T010000
END:DAYLIGHT
BEGIN:STANDARD
TZOFFSETFROM:+0100
TZOFFSETTO:+0000
TZNAME:GMT
DTSTART:20221030T010000
END:STANDARD
END:VTIMEZONE
BEGIN:VEVENT
DTSTART;TZID=Europe/London:20221015T190000
DTEND;TZID=Europe/London:20221015T223000
DTSTAMP:20260421T234004
CREATED:20220813T171513Z
LAST-MODIFIED:20220927T193644Z
UID:10000005-1665860400-1665873000@honeycabaret.co.uk
SUMMARY:Best of Both! Burlesque Comedy Magic Variety Cabaret Show Nottingham - Meal & Show Option
DESCRIPTION:Experience this incredible Honey Cabaret Burlesque\, Comedy\, Song & Magic Variety Theatre Show in Nottingham!  \nFor the first time EVER we have invited 3 of Nottingham’s best burlesque troupes to join our main cabaret show… Reenies Rockettes!! The Papillettes!! and The Poison Ivies!! \nThey will be performing some sensational group burlesque numbers alongside the insanely talented Lili La Scala\, the exquisite burlesque superstar Demi Noire and internationally renowned magician Marc Oberon!! DO NOT MISS THIS SHOW!!!\nIt’s La Crème de La Crème of Nottingham and beyond!\nMeal and a show VIP front table £50\nMeal and a show £40\nStandard Seats £16.50\nAll tickets are subject to a small booking fee\n  \n\n\nNotice \nTickets are non-refundable \n\n\n\n\n\n\n \n\n\n\n \n\n\n\n\n\n\n\n\nMeal options to be announced soon\n\n\n\n\n\n\n\n\n\n\n\nNottingham’s finest High Calibre Cabaret Variety Show. Bringing the best acts from around the world to the heart of Nottingham. A-list Burlesque artists and cabaret stars including circus\, magic and comedy in stunning venues with a huge stage and first class sound and lighting to make Honey Cabaret shows one of the best nights you’ll ever have. Honey Cabaret
URL:https://honeycabaret.co.uk/event/best-of-both-burlesque-cabaret-show/
LOCATION:Alea Casino\, 108 Upper Parliament Street\, Nottingham\, Nottinghamshire\, NG1 6LF\, United Kingdom
ATTACH;FMTTYPE=image/png:https://honeycabaret.co.uk/wp-content/uploads/2022/08/Honey-Cabaret_A4-Poster_JP_v4.png
ORGANIZER;CN="Honey Cabaret":MAILTO:info@honeycabaret.co.uk
END:VEVENT
END:VCALENDAR